BEGIN:VCALENDAR
VERSION:2.0
PRODID:-//Federación Chilena de Go - ECPv6.6.1//NONSGML v1.0//EN
CALSCALE:GREGORIAN
METHOD:PUBLISH
X-WR-CALNAME:Federación Chilena de Go
X-ORIGINAL-URL:https://igochile.cl/igochile2
X-WR-CALDESC:Events for Federación Chilena de Go
REFRESH-INTERVAL;VALUE=DURATION:PT1H
X-Robots-Tag:noindex
X-PUBLISHED-TTL:PT1H
BEGIN:VTIMEZONE
TZID:America/Sao_Paulo
BEGIN:STANDARD
TZOFFSETFROM:-0300
TZOFFSETTO:-0300
TZNAME:-03
DTSTART:20240101T000000
END:STANDARD
END:VTIMEZONE
BEGIN:VEVENT
DTSTART;VALUE=DATE:20240630
DTEND;VALUE=DATE:20240701
DTSTAMP:20260419T150524
CREATED:20240611T213916Z
LAST-MODIFIED:20240611T213916Z
UID:6697-1719705600-1719791999@igochile.cl
SUMMARY:Torneo de Invierno 2024
DESCRIPTION:
URL:https://igochile.cl/igochile2/event/torneo-de-invierno-2024/
ORGANIZER;CN="Federaci%C3%B3n Chilena de Go":MAILTO:contacto@igochile.cl
END:VEVENT
END:VCALENDAR